BEGIN:VCALENDAR
VERSION:2.0
PRODID:-//Nalanda Retreat Center - ECPv6.15.20//NONSGML v1.0//EN
CALSCALE:GREGORIAN
METHOD:PUBLISH
X-ORIGINAL-URL:https://nalanda-center.org
X-WR-CALDESC:Évènements pour Nalanda Retreat Center
REFRESH-INTERVAL;VALUE=DURATION:PT1H
X-Robots-Tag:noindex
X-PUBLISHED-TTL:PT1H
BEGIN:VTIMEZONE
TZID:Asia/Colombo
BEGIN:STANDARD
TZOFFSETFROM:+0530
TZOFFSETTO:+0530
TZNAME:+0530
DTSTART:20260101T000000
END:STANDARD
END:VTIMEZONE
BEGIN:VEVENT
DTSTART;VALUE=DATE:20270111
DTEND;VALUE=DATE:20270121
DTSTAMP:20260425T210241
CREATED:20260421T134957Z
LAST-MODIFIED:20260421T134957Z
UID:10000007-1799625600-1800489599@nalanda-center.org
SUMMARY:Retreat - Yoga Stage with Mirjam & Cedric
DESCRIPTION:Details to follow\, stay tuned!
URL:https://nalanda-center.org/agenda/retreat-yoga-stage-with-mirjam-cedric/
LOCATION:Nalanda Retreat Center\, Meegolla Rd 97a\, Matale\, 21082\, Sri Lanka
CATEGORIES:Retreats,Yoga
ATTACH;FMTTYPE=image/png:https://nalanda-center.org/wp-content/uploads/2025/12/yoga-sun-.png
END:VEVENT
BEGIN:VEVENT
DTSTART;VALUE=DATE:20270124
DTEND;VALUE=DATE:20270208
DTSTAMP:20260425T210241
CREATED:20260421T141220Z
LAST-MODIFIED:20260421T141220Z
UID:10000009-1800748800-1802044799@nalanda-center.org
SUMMARY:Yoga with Stefanie Balte
DESCRIPTION:Details to follow\, stay tuned!
URL:https://nalanda-center.org/agenda/yoga-with-stefanie-balte/
LOCATION:Nalanda Retreat Center\, Meegolla Rd 97a\, Matale\, 21082\, Sri Lanka
CATEGORIES:Yoga
ATTACH;FMTTYPE=image/jpeg:https://nalanda-center.org/wp-content/uploads/2026/04/yoga.jpg
END:VEVENT
END:VCALENDAR