BEGIN:VCALENDAR
VERSION:2.0
PRODID:-//Nalanda Retreat Center - ECPv6.15.20//NONSGML v1.0//EN
CALSCALE:GREGORIAN
METHOD:PUBLISH
X-WR-CALNAME:Nalanda Retreat Center
X-ORIGINAL-URL:https://nalanda-center.org
X-WR-CALDESC:Évènements pour Nalanda Retreat Center
REFRESH-INTERVAL;VALUE=DURATION:PT1H
X-Robots-Tag:noindex
X-PUBLISHED-TTL:PT1H
BEGIN:VTIMEZONE
TZID:Asia/Colombo
BEGIN:STANDARD
TZOFFSETFROM:+0530
TZOFFSETTO:+0530
TZNAME:+0530
DTSTART:20260101T000000
END:STANDARD
END:VTIMEZONE
BEGIN:VEVENT
DTSTART;VALUE=DATE:20270124
DTEND;VALUE=DATE:20270208
DTSTAMP:20260424T215035
CREATED:20260421T140304Z
LAST-MODIFIED:20260421T140304Z
UID:10000008-1800748800-1802044799@nalanda-center.org
SUMMARY:Vipassana & Mattā Meditation with Marie Mannschatz
DESCRIPTION:Details to follow\, stay tuned!
URL:https://nalanda-center.org/agenda/vipassana-matta-meditation-with-marie-mannschatz/
LOCATION:Nalanda Retreat Center\, Meegolla Rd 97a\, Matale\, 21082\, Sri Lanka
CATEGORIES:Activities,Meditation
ATTACH;FMTTYPE=image/jpeg:https://nalanda-center.org/wp-content/uploads/2026/04/marie_mannschatz.jpg
ORGANIZER;CN="Marie Mannschatz":MAILTO:mail@mariemannschatz.de
END:VEVENT
END:VCALENDAR